BEGIN:VCALENDAR
VERSION:2.0
PRODID:-//Canadian Railway Club - ECPv6.15.1.1//NONSGML v1.0//EN
CALSCALE:GREGORIAN
METHOD:PUBLISH
X-WR-CALNAME:Canadian Railway Club
X-ORIGINAL-URL:https://canadianrailwayclub.ca
X-WR-CALDESC:Events for Canadian Railway Club
REFRESH-INTERVAL;VALUE=DURATION:PT1H
X-Robots-Tag:noindex
X-PUBLISHED-TTL:PT1H
BEGIN:VTIMEZONE
TZID:America/Toronto
BEGIN:DAYLIGHT
TZOFFSETFROM:-0500
TZOFFSETTO:-0400
TZNAME:EDT
DTSTART:20260308T070000
END:DAYLIGHT
BEGIN:STANDARD
TZOFFSETFROM:-0400
TZOFFSETTO:-0500
TZNAME:EST
DTSTART:20261101T060000
END:STANDARD
END:VTIMEZONE
BEGIN:VEVENT
DTSTART;TZID=America/Toronto:20260206T190000
DTEND;TZID=America/Toronto:20260206T230000
DTSTAMP:20260415T084544
CREATED:20241119T195408Z
LAST-MODIFIED:20260114T152933Z
UID:10099-1770404400-1770418800@canadianrailwayclub.ca
SUMMARY:116th Annual Gala February 6th\, 2026
DESCRIPTION:
URL:https://canadianrailwayclub.ca/event/116th-annual-gala-february-6th-2026/
LOCATION:Bonaventure Hilton Hotel – Montreal Ballroom\, 900\, Rue De La Gauchetière Ouest\, Montreal\, Quebec\, Canada
ATTACH;FMTTYPE=image/png:https://canadianrailwayclub.ca/wp-content/uploads/2024/11/Annual-Gala.png
END:VEVENT
END:VCALENDAR